BEGIN:VCALENDAR
VERSION:2.0
PRODID:-//M-FOS Geisenhausen - ECPv6.15.12.2//NONSGML v1.0//EN
CALSCALE:GREGORIAN
METHOD:PUBLISH
X-WR-CALNAME:M-FOS Geisenhausen
X-ORIGINAL-URL:https://fos.montessori-landshut.de
X-WR-CALDESC:Veranstaltungen für M-FOS Geisenhausen
REFRESH-INTERVAL;VALUE=DURATION:PT1H
X-Robots-Tag:noindex
X-PUBLISHED-TTL:PT1H
BEGIN:VTIMEZONE
TZID:Europe/Berlin
BEGIN:DAYLIGHT
TZOFFSETFROM:+0100
TZOFFSETTO:+0200
TZNAME:CEST
DTSTART:20210328T010000
END:DAYLIGHT
BEGIN:STANDARD
TZOFFSETFROM:+0200
TZOFFSETTO:+0100
TZNAME:CET
DTSTART:20211031T010000
END:STANDARD
BEGIN:DAYLIGHT
TZOFFSETFROM:+0100
TZOFFSETTO:+0200
TZNAME:CEST
DTSTART:20220327T010000
END:DAYLIGHT
BEGIN:STANDARD
TZOFFSETFROM:+0200
TZOFFSETTO:+0100
TZNAME:CET
DTSTART:20221030T010000
END:STANDARD
BEGIN:DAYLIGHT
TZOFFSETFROM:+0100
TZOFFSETTO:+0200
TZNAME:CEST
DTSTART:20230326T010000
END:DAYLIGHT
BEGIN:STANDARD
TZOFFSETFROM:+0200
TZOFFSETTO:+0100
TZNAME:CET
DTSTART:20231029T010000
END:STANDARD
END:VTIMEZONE
BEGIN:VEVENT
DTSTART;TZID=Europe/Berlin:20220127T190000
DTEND;TZID=Europe/Berlin:20220127T210000
DTSTAMP:20260424T011044
CREATED:20220114T173551Z
LAST-MODIFIED:20220123T150700Z
UID:264-1643310000-1643317200@fos.montessori-landshut.de
SUMMARY:Online-Infoabend M-FOS Geisenhausen
DESCRIPTION:Wir klären alle Fragen\, die nach der Lektüre der Infobroschüre noch offen sind. Bitte registriert Euch kostenfrei zum Online-Infoabend über Eventbrite\, damit Ihr an der Zoom-Konferenz teilnehmen könnt. \nhttps://m-fos-geisenhausen-bei-landshut-20220227.eventbrite.de
URL:https://fos.montessori-landshut.de/termin/online-infoabend-m-fos-geisenhausen/
LOCATION:Montessori-Schule Geisenhausen\, Martinstraße 3\, Geisenhausen\, 84144\, Deutschland
ATTACH;FMTTYPE=image/jpeg:https://fos.montessori-landshut.de/wp-content/uploads/sites/4/2022/01/M-FOS-Eventbrite-202201-Bannerafphoto.jpg
END:VEVENT
END:VCALENDAR